BEGIN:VCALENDAR
VERSION:2.0
PRODID:-//House of Prayer Ministries - ECPv5.2.0//NONSGML v1.0//EN
CALSCALE:GREGORIAN
METHOD:PUBLISH
X-WR-CALNAME:House of Prayer Ministries
X-ORIGINAL-URL:https://www.houseofprayerministries.org
X-WR-CALDESC:Events for House of Prayer Ministries
BEGIN:VTIMEZONE
TZID:America/New_York
BEGIN:DAYLIGHT
TZOFFSETFROM:-0500
TZOFFSETTO:-0400
TZNAME:EDT
DTSTART:20260308T070000
END:DAYLIGHT
BEGIN:STANDARD
TZOFFSETFROM:-0400
TZOFFSETTO:-0500
TZNAME:EST
DTSTART:20261101T060000
END:STANDARD
END:VTIMEZONE
BEGIN:VEVENT
DTSTART;VALUE=DATE:20260422
DTEND;VALUE=DATE:20260425
DTSTAMP:20260421T064742
CREATED:20220417T024702Z
LAST-MODIFIED:20260306T201439Z
UID:815-1776816000-1777075199@www.houseofprayerministries.org
SUMMARY:NC 3rd Ministers & Workers Meeting
DESCRIPTION:
URL:https://www.houseofprayerministries.org/event/nc-3rd-ministers-workers-meeting/
ATTACH;FMTTYPE=image/jpeg:https://www.houseofprayerministries.org/wp-content/uploads/2022/04/NC3rd-Workers.jpg
END:VEVENT
BEGIN:VEVENT
DTSTART;TZID=America/New_York:20260422T061500
DTEND;TZID=America/New_York:20260422T061500
DTSTAMP:20260421T064742
CREATED:20190422T015617Z
LAST-MODIFIED:20260417T141708Z
UID:583-1776838500-1776838500@www.houseofprayerministries.org
SUMMARY:Wednesday Morning Mana & Prayer
DESCRIPTION:Dial-in 305-848-8888  Pin 5989494661
URL:https://www.houseofprayerministries.org/event/wednesday-night-prayer-call/
ATTACH;FMTTYPE=image/jpeg:https://www.houseofprayerministries.org/wp-content/uploads/2019/04/MorningMannaPrayer.jpg
END:VEVENT
BEGIN:VEVENT
DTSTART;TZID=America/New_York:20260426T103000
DTEND;TZID=America/New_York:20260426T123000
DTSTAMP:20260421T064742
CREATED:20190110T221410Z
LAST-MODIFIED:20260417T141756Z
UID:529-1777199400-1777206600@www.houseofprayerministries.org
SUMMARY:Sunday Morning Worship
DESCRIPTION:Join us for our Sunday Morning Worship Service!
URL:https://www.houseofprayerministries.org/event/sunday-morning-worship/
ATTACH;FMTTYPE=image/jpeg:https://www.houseofprayerministries.org/wp-content/uploads/2019/01/SundayWorshipInvite.jpg
END:VEVENT
BEGIN:VEVENT
DTSTART;TZID=America/New_York:20260429T061500
DTEND;TZID=America/New_York:20260429T064500
DTSTAMP:20260421T064742
CREATED:20210311T143720Z
LAST-MODIFIED:20260417T141738Z
UID:737-1777443300-1777445100@www.houseofprayerministries.org
SUMMARY:Wednesday Morning Mana & Prayer
DESCRIPTION:Dial-in 305-848-8888  Pin 5989494661
URL:https://www.houseofprayerministries.org/event/wednesday-morning-mana-prayer/
ATTACH;FMTTYPE=image/jpeg:https://www.houseofprayerministries.org/wp-content/uploads/2019/04/MorningMannaPrayerFL.jpg
END:VEVENT
BEGIN:VEVENT
DTSTART;TZID=America/New_York:20260429T190000
DTEND;TZID=America/New_York:20260429T200000
DTSTAMP:20260421T064742
CREATED:20190111T030227Z
LAST-MODIFIED:20260417T141728Z
UID:526-1777489200-1777492800@www.houseofprayerministries.org
SUMMARY:Wednesday Night Bible Study
DESCRIPTION:Join us as we walk through the Word in Bible Study!
URL:https://www.houseofprayerministries.org/event/thursday-night-bible-study/
ATTACH;FMTTYPE=image/jpeg:https://www.houseofprayerministries.org/wp-content/uploads/2019/04/BibleStudyInvite.jpg
END:VEVENT
BEGIN:VEVENT
DTSTART;TZID=America/New_York:20260503T103000
DTEND;TZID=America/New_York:20260503T103000
DTSTAMP:20260421T064742
CREATED:20181203T024032Z
LAST-MODIFIED:20260419T224350Z
UID:452-1777804200-1777804200@www.houseofprayerministries.org
SUMMARY:Sunday Morning Worship
DESCRIPTION:Join us for our Sunday Morning Worship Service!
URL:https://www.houseofprayerministries.org/event/sunday-morning-worship-2/
ATTACH;FMTTYPE=image/jpeg:https://www.houseofprayerministries.org/wp-content/uploads/2025/03/WMQM0719.jpg
END:VEVENT
BEGIN:VEVENT
DTSTART;TZID=America/New_York:20260509T100000
DTEND;TZID=America/New_York:20260509T103000
DTSTAMP:20260421T064742
CREATED:20250525T015244Z
LAST-MODIFIED:20260419T224325Z
UID:980-1778320800-1778322600@www.houseofprayerministries.org
SUMMARY:1st Saturday Prayer
DESCRIPTION:
URL:https://www.houseofprayerministries.org/event/1st-saturday-prayer/
ATTACH;FMTTYPE=image/jpeg:https://www.houseofprayerministries.org/wp-content/uploads/2025/05/1stSaturdayPrayer.jpg
END:VEVENT
END:VCALENDAR